BEGIN:VCALENDAR
VERSION:2.0
PRODID:-//PPPlearn - ECPv6.15.14//NONSGML v1.0//EN
CALSCALE:GREGORIAN
METHOD:PUBLISH
X-WR-CALNAME:PPPlearn
X-ORIGINAL-URL:https://www.ppplearn.com
X-WR-CALDESC:Events for PPPlearn
REFRESH-INTERVAL;VALUE=DURATION:PT1H
X-Robots-Tag:noindex
X-PUBLISHED-TTL:PT1H
BEGIN:VTIMEZONE
TZID:Europe/Athens
BEGIN:DAYLIGHT
TZOFFSETFROM:+0200
TZOFFSETTO:+0300
TZNAME:EEST
DTSTART:20220327T010000
END:DAYLIGHT
BEGIN:STANDARD
TZOFFSETFROM:+0300
TZOFFSETTO:+0200
TZNAME:EET
DTSTART:20221030T010000
END:STANDARD
BEGIN:DAYLIGHT
TZOFFSETFROM:+0200
TZOFFSETTO:+0300
TZNAME:EEST
DTSTART:20230326T010000
END:DAYLIGHT
BEGIN:STANDARD
TZOFFSETFROM:+0300
TZOFFSETTO:+0200
TZNAME:EET
DTSTART:20231029T010000
END:STANDARD
BEGIN:DAYLIGHT
TZOFFSETFROM:+0200
TZOFFSETTO:+0300
TZNAME:EEST
DTSTART:20240331T010000
END:DAYLIGHT
BEGIN:STANDARD
TZOFFSETFROM:+0300
TZOFFSETTO:+0200
TZNAME:EET
DTSTART:20241027T010000
END:STANDARD
END:VTIMEZONE
BEGIN:VEVENT
DTSTART;TZID=Europe/Athens:20231127T160000
DTEND;TZID=Europe/Athens:20231130T200000
DTSTAMP:20260423T141414
CREATED:20231101T103621Z
LAST-MODIFIED:20231101T112033Z
UID:7320-1701100800-1701374400@www.ppplearn.com
SUMMARY:Virtual Selling (Hybrid Learning)
DESCRIPTION:Virtual Selling\nΤα εικονικά κανάλια επικοινωνίας στη διαδικασία πώλησης\nΣτο πλαίσιο της παρουσίασης της μεθόδου του στρατηγικού μετασχηματισμού των πωλήσεων ενός οργανισμού με την μέθοδο Sales Transformation\, η PPP Learn προσφέρει ένα πρόγραμμα διάρκειας 16 ωρών που εξηγεί πως μπορούμε να εφαρμόσουμε την μέθοδο του Virtual Selling. H μέθοδος του Virtual Selling αποτελεί ένα σημαντικό και αναπόσπαστο τμήμα του μετασχηματισμού πωλήσεων.   \nΤο Virtual Selling είναι η αξιοποίηση των εικονικών καναλιών επικοινωνίας στη θέση της φυσικής\, πρόσωπο με πρόσωπο αλληλεπίδρασης. \nΤο Virtual Selling μάλλον\, αφορά μια εστίαση ακρίβειας λέιζερ στην εφαρμογή των εργαλείων εικονικής επικοινωνίας περισσότερο αποτελεσματικά για να εμπλακείτε και να συνδεθείτε με άλλους ανθρώπους ενώ παράλληλα ενισχύετε την παραγωγικότητα των πωλήσεών σας. Το Virtual Selling σας βοηθά να βελτιώσετε τις δεξιότητες εικονικής επικοινωνίας σας\, τις  διαπροσωπικές δεξιότητες και τις δεξιότητες πωλήσεων κατά μήκος των τριών κύριων διαδρομών του συνεχούς των πωλήσεων: \n\nΑνάπτυξη πωλήσεων: Προσέλκυση υποψηφίων πελατών και κίνησή τους μέσα στην διαδικασία (στόχευση\, αξιολόγηση\, εμπλοκή)\nΠώληση: Προώθηση ευκαιριών μέσω του χωνιού πωλήσεων (αρχική συνάντηση\, ανακάλυψη\, επιδείξεις\, παρουσιάσεις\, διαπραγματεύσεις\, κλείσιμο)\nΔιαχείριση λογαριασμού: Εξυπηρέτηση\, επέκταση και ανάπτυξη των υπαρχόντων λογαριασμών (ενσωμάτωση νέων πελατών\, παράδοση προϊόντων και υπηρεσιών\, up-selling\, cross-selling\, ανάπτυξη σχέσεων\, προσθήκη νέων προϊόντων και υπηρεσιών\, διατήρηση)\n\nΤο πρόγραμμα Virtual Selling περιέχει μερικές αρκετά ριζοσπαστικές ιδέες και τεχνικές. Παρέχει μια μέθοδο που οι οργανισμοί μπορούν να εφαρμόσουν\, έτσι ώστε αντί να κάνουν μια τυχαία χρήση των καναλιών εικονικής επικοινωνίας\, να μπορούν να ανταποκρίνονται στις ανάγκες και να υποστηρίζουν μια ομάδα πωλητών που εφαρμόζουν συστηματικά τη μέθοδο του Virtual Selling. \nΗ PPP Learn είναι εδώ για να σας βοηθήσει με όλες τις μαθησιακές και αναπτυξιακές σας ανάγκες. \n\nΠρόγραμμα Εκδήλωσης \nWorkshops: (διεξάγονται στη Digital Academy της PPP Learn) \n\n27/11/23  και 16:00 – 20:00 \n28/11/23  και 16:00 – 20:00\n29/11/23  και 16:00 – 20:00\n30/11/23  και 16:00 – 20:00\n\n\n\n\nΠερισσότερα στη μπροσούρα... \nΠερισσότερα στη Learning zone...
URL:https://www.ppplearn.com/event/virtual-selling-hybrid-learning/
LOCATION:Digital Academy (e-learning)\, Ελλάδα
CATEGORIES:Hybrid Learning,Webinar
ATTACH;FMTTYPE=image/png:https://www.ppplearn.com/wp-content/uploads/2023/11/Virtual_Selling.png
ORGANIZER;CN="PPP Learn":MAILTO:info@ppplearn.com
END:VEVENT
BEGIN:VEVENT
DTSTART;TZID=Europe/Athens:20231116T160000
DTEND;TZID=Europe/Athens:20231116T170000
DTSTAMP:20260423T141414
CREATED:20231101T082627Z
LAST-MODIFIED:20231101T112226Z
UID:7303-1700150400-1700154000@www.ppplearn.com
SUMMARY:Virtual Selling (Free Webinar)
DESCRIPTION:Virtual Selling (Free Webinar)\nΤα εικονικά κανάλια επικοινωνίας στη διαδικασία πώλησης\nΣτο πλαίσιο της παρουσίασης της μεθόδου του στρατηγικού μετασχηματισμού των πωλήσεων ενός οργανισμού με την μέθοδο Sales Transformation\, η PPP Learn προσφέρει ένα πρόγραμμα διάρκειας 16 ωρών που εξηγεί πως μπορούμε να εφαρμόσουμε την μέθοδο του Virtual Selling. H μέθοδος του Virtual Selling αποτελεί ένα σημαντικό και αναπόσπαστο τμήμα του μετασχηματισμού πωλήσεων.   \nTο Virtual Selling είναι η αξιοποίηση των εικονικών καναλιών επικοινωνίας στη θέση της φυσικής\, πρόσωπο με πρόσωπο αλληλεπίδρασης. \nΤο Virtual Selling μάλλον\, αφορά μια εστίαση ακρίβειας λέιζερ στην εφαρμογή των εργαλείων εικονικής επικοινωνίας περισσότερο αποτελεσματικά για να εμπλακείτε και να συνδεθείτε με άλλους ανθρώπους ενώ παράλληλα ενισχύετε την παραγωγικότητα των πωλήσεών σας. Το Virtual Selling σας βοηθά να βελτιώσετε τις δεξιότητες εικονικής επικοινωνίας σας\, τις  διαπροσωπικές δεξιότητες και τις δεξιότητες πωλήσεων κατά μήκος των τριών κύριων διαδρομών του συνεχούς των πωλήσεων: \n\nΑνάπτυξη πωλήσεων: Προσέλκυση υποψηφίων πελατών και κίνησή τους μέσα στην διαδικασία (στόχευση\, αξιολόγηση\, εμπλοκή)\nΠώληση: Προώθηση ευκαιριών μέσω του χωνιού πωλήσεων (αρχική συνάντηση\, ανακάλυψη\, επιδείξεις\, παρουσιάσεις\, διαπραγματεύσεις\, κλείσιμο)\nΔιαχείριση λογαριασμού: Εξυπηρέτηση\, επέκταση και ανάπτυξη των υπαρχόντων λογαριασμών (ενσωμάτωση νέων πελατών\, παράδοση προϊόντων και υπηρεσιών\, up-selling\, cross-selling\, ανάπτυξη σχέσεων\, προσθήκη νέων προϊόντων και υπηρεσιών\, διατήρηση)\n\nΤο πρόγραμμα Virtual Selling περιέχει μερικές αρκετά ριζοσπαστικές ιδέες και τεχνικές. Παρέχει μια μέθοδο που οι οργανισμοί μπορούν να εφαρμόσουν\, έτσι ώστε αντί να κάνουν μια τυχαία χρήση των καναλιών εικονικής επικοινωνίας\, να μπορούν να ανταποκρίνονται στις ανάγκες και να υποστηρίζουν μια ομάδα πωλητών που εφαρμόζουν συστηματικά τη μέθοδο του Virtual Selling. \nΗ PPP Learn είναι εδώ για να σας βοηθήσει με όλες τις μαθησιακές και αναπτυξιακές σας ανάγκες. \n\nΤο πρόγραμμα θα καταγραφεί (recording) και θα μπορείτε να το παρακολουθήσετε offline στο PPP Learn digital academy ή στο κανάλι μας στο Youtube\n\n\nΠρόγραμμα Εκδήλωσης \nWorkshop:  16/11/23  και 16:00 – 17:00 (διεξάγεται στη Digital Academy της PPP Learn) \n\n  \n\n\nΠερισσότερα στη μπροσούρα... \nΠερισσότερα στη Learning zone...
URL:https://www.ppplearn.com/event/virtual-selling-free-webinar/
LOCATION:Digital Academy (e-learning)\, Ελλάδα
CATEGORIES:Webinar
ATTACH;FMTTYPE=image/png:https://www.ppplearn.com/wp-content/uploads/2023/11/Virtual_Selling.png
ORGANIZER;CN="PPP Learn":MAILTO:info@ppplearn.com
END:VEVENT
END:VCALENDAR