BEGIN:VCALENDAR
VERSION:2.0
PRODID:-//PPPlearn - ECPv6.15.14//NONSGML v1.0//EN
CALSCALE:GREGORIAN
METHOD:PUBLISH
X-WR-CALNAME:PPPlearn
X-ORIGINAL-URL:https://www.ppplearn.com
X-WR-CALDESC:Events for PPPlearn
REFRESH-INTERVAL;VALUE=DURATION:PT1H
X-Robots-Tag:noindex
X-PUBLISHED-TTL:PT1H
BEGIN:VTIMEZONE
TZID:Europe/Athens
BEGIN:DAYLIGHT
TZOFFSETFROM:+0200
TZOFFSETTO:+0300
TZNAME:EEST
DTSTART:20170326T010000
END:DAYLIGHT
BEGIN:STANDARD
TZOFFSETFROM:+0300
TZOFFSETTO:+0200
TZNAME:EET
DTSTART:20171029T010000
END:STANDARD
BEGIN:DAYLIGHT
TZOFFSETFROM:+0200
TZOFFSETTO:+0300
TZNAME:EEST
DTSTART:20180325T010000
END:DAYLIGHT
BEGIN:STANDARD
TZOFFSETFROM:+0300
TZOFFSETTO:+0200
TZNAME:EET
DTSTART:20181028T010000
END:STANDARD
BEGIN:DAYLIGHT
TZOFFSETFROM:+0200
TZOFFSETTO:+0300
TZNAME:EEST
DTSTART:20190331T010000
END:DAYLIGHT
BEGIN:STANDARD
TZOFFSETFROM:+0300
TZOFFSETTO:+0200
TZNAME:EET
DTSTART:20191027T010000
END:STANDARD
BEGIN:DAYLIGHT
TZOFFSETFROM:+0200
TZOFFSETTO:+0300
TZNAME:EEST
DTSTART:20200329T010000
END:DAYLIGHT
BEGIN:STANDARD
TZOFFSETFROM:+0300
TZOFFSETTO:+0200
TZNAME:EET
DTSTART:20201025T010000
END:STANDARD
BEGIN:DAYLIGHT
TZOFFSETFROM:+0200
TZOFFSETTO:+0300
TZNAME:EEST
DTSTART:20210328T010000
END:DAYLIGHT
BEGIN:STANDARD
TZOFFSETFROM:+0300
TZOFFSETTO:+0200
TZNAME:EET
DTSTART:20211031T010000
END:STANDARD
END:VTIMEZONE
BEGIN:VEVENT
DTSTART;TZID=Europe/Athens:20200123T090000
DTEND;TZID=Europe/Athens:20200124T170000
DTSTAMP:20260423T205037
CREATED:20191107T152008Z
LAST-MODIFIED:20191107T154619Z
UID:5447-1579770000-1579885200@www.ppplearn.com
SUMMARY:Sun Tzu – Η Τέχνη του Πολέµου
DESCRIPTION:Sun Tzu – Η Τέχνη του Πολέµου\nΕργαστήρι επιχειρηματικής στρατηγικής σκέψης με τις αρχές της Τέχνης του Πολέμου του Sun Tzu. \nΗ “Τέχνη του Πολέμου” του Sun Tzu είναι το παλαιότερο και πιο γνωστό στρατιωτικό εγχειρίδιο του κόσμου. Αν και γράφτηκε σχεδόν πριν από 2.500 χρόνια\, εξακολουθεί\, ακόμα και σήμερα\, να είναι μακράν το πιο έγκυρο και σημαντικό βιβλίο στρατηγικής στον κόσμο. Περιέχει την ουσία\, τις αρχές και τη σοφία της στρατηγικής διοίκησης και των κρίσιμων παραγόντων επιτυχίας στον πόλεμο. \nΑν και είναι θαυμάσια ιδέα να διαβάσει κανείς το βιβλίο\, έχουμε επεξεργαστεί τις ιδέες του βιβλίου\, τις έχουμε προσαρμόσει στη σημερινή πραγματικότητα και τις έχουμε συνδέσει με πρακτικές ασκήσεις και παραδείγματα επιχειρηματικής στρατηγικής. Σε αυτό το εργαστήρι\, θα διερευνηθούν οι αρχές\, οι κανόνες\, και η σοφία του βιβλίου\, και θα εξαχθούν πολύτιμα συμπεράσματα και ιδέες για την εφαρμογή στην καθημερινή διοίκηση των επιχειρήσεων μας. \n\nΠερισσότερα στη μπροσούρα... \nΠερισσότερα στη Learning zone...
URL:https://www.ppplearn.com/event/sun-tzu-the-art-of-war-2/
LOCATION:ppp learn\, Χίου 63\, Κοντόπευκο - Αγ Παρασκευή\, Αττική\, GR 15343\, Ελλάδα
CATEGORIES:Team Lab
ATTACH;FMTTYPE=image/jpeg:https://www.ppplearn.com/wp-content/uploads/2016/12/sem_suntzu.jpg
ORGANIZER;CN="PPP - %CE%94%CE%B7%CE%BC%CE%AE%CF%84%CF%81%CE%B7%CF%82 %CE%92%CE%B9%CE%BD%CF%84%CE%B6%CE%B7%CE%BB%CE%B1%CE%AF%CE%BF%CF%82":MAILTO:OpenSeminars@ppplearn.com
END:VEVENT
BEGIN:VEVENT
DTSTART;TZID=Europe/Athens:20190718T090000
DTEND;TZID=Europe/Athens:20190718T170000
DTSTAMP:20260423T205037
CREATED:20190319T150617Z
LAST-MODIFIED:20190529T110153Z
UID:5025-1563440400-1563469200@www.ppplearn.com
SUMMARY:Sun Tzu – Η Τέχνη του Πολέµου
DESCRIPTION:Sun Tzu – Η Τέχνη του Πολέµου\nΕργαστήρι επιχειρηματικής στρατηγικής σκέψης με τις αρχές της Τέχνης του Πολέμου του Sun Tzu. \nΗ “Τέχνη του Πολέμου” του Sun Tzu είναι το παλαιότερο και πιο γνωστό στρατιωτικό εγχειρίδιο του κόσμου. Αν και γράφτηκε σχεδόν πριν από 2.500 χρόνια\, εξακολουθεί\, ακόμα και σήμερα\, να είναι μακράν το πιο έγκυρο και σημαντικό βιβλίο στρατηγικής στον κόσμο. Περιέχει την ουσία\, τις αρχές και τη σοφία της στρατηγικής διοίκησης και των κρίσιμων παραγόντων επιτυχίας στον πόλεμο. \nΑν και είναι θαυμάσια ιδέα να διαβάσει κανείς το βιβλίο\, έχουμε επεξεργαστεί τις ιδέες του βιβλίου\, τις έχουμε προσαρμόσει στη σημερινή πραγματικότητα και τις έχουμε συνδέσει με πρακτικές ασκήσεις και παραδείγματα επιχειρηματικής στρατηγικής. Σε αυτό το εργαστήρι\, θα διερευνηθούν οι αρχές\, οι κανόνες\, και η σοφία του βιβλίου\, και θα εξαχθούν πολύτιμα συμπεράσματα και ιδέες για την εφαρμογή στην καθημερινή διοίκηση των επιχειρήσεων μας. \n\nΠερισσότερα στη μπροσούρα... \nΠερισσότερα στη Learning zone...
URL:https://www.ppplearn.com/event/sun-tzu-the-art-of-war-copy/
LOCATION:ppp learn\, Χίου 63\, Κοντόπευκο - Αγ Παρασκευή\, Αττική\, GR 15343\, Ελλάδα
CATEGORIES:Team Lab
ATTACH;FMTTYPE=image/jpeg:https://www.ppplearn.com/wp-content/uploads/2016/12/sem_suntzu.jpg
ORGANIZER;CN="PPP - %CE%94%CE%B7%CE%BC%CE%AE%CF%84%CF%81%CE%B7%CF%82 %CE%92%CE%B9%CE%BD%CF%84%CE%B6%CE%B7%CE%BB%CE%B1%CE%AF%CE%BF%CF%82":MAILTO:OpenSeminars@ppplearn.com
END:VEVENT
BEGIN:VEVENT
DTSTART;TZID=Europe/Athens:20190322T090000
DTEND;TZID=Europe/Athens:20190322T170000
DTSTAMP:20260423T205037
CREATED:20170405T101021Z
LAST-MODIFIED:20181218T135724Z
UID:4093-1553245200-1553274000@www.ppplearn.com
SUMMARY:Sun Tzu – Η Τέχνη του Πολέµου
DESCRIPTION:Sun Tzu – Η Τέχνη του Πολέµου\nΕργαστήρι επιχειρηματικής στρατηγικής σκέψης με τις αρχές της Τέχνης του Πολέμου του Sun Tzu. \nΗ “Τέχνη του Πολέμου” του Sun Tzu είναι το παλαιότερο και πιο γνωστό στρατιωτικό εγχειρίδιο του κόσμου. Αν και γράφτηκε σχεδόν πριν από 2.500 χρόνια\, εξακολουθεί\, ακόμα και σήμερα\, να είναι μακράν το πιο έγκυρο και σημαντικό βιβλίο στρατηγικής στον κόσμο. Περιέχει την ουσία\, τις αρχές και τη σοφία της στρατηγικής διοίκησης και των κρίσιμων παραγόντων επιτυχίας στον πόλεμο. \nΑν και είναι θαυμάσια ιδέα να διαβάσει κανείς το βιβλίο\, έχουμε επεξεργαστεί τις ιδέες του βιβλίου\, τις έχουμε προσαρμόσει στη σημερινή πραγματικότητα και τις έχουμε συνδέσει με πρακτικές ασκήσεις και παραδείγματα επιχειρηματικής στρατηγικής. Σε αυτό το εργαστήρι\, θα διερευνηθούν οι αρχές\, οι κανόνες\, και η σοφία του βιβλίου\, και θα εξαχθούν πολύτιμα συμπεράσματα και ιδέες για την εφαρμογή στην καθημερινή διοίκηση των επιχειρήσεων μας. \n\nΠερισσότερα στη μπροσούρα... \nΠερισσότερα στη Learning zone...
URL:https://www.ppplearn.com/event/sun-tzu-the-art-of-war/
LOCATION:Εγκαταστάσεις PPP Learn\, Χίου 63\, Κοντόπευκο - Αγ Παρασκευή\, Αττική\, GR 15343\, Ελλάδα
CATEGORIES:Team Lab
ATTACH;FMTTYPE=image/jpeg:https://www.ppplearn.com/wp-content/uploads/2016/12/sem_suntzu.jpg
ORGANIZER;CN="PPP - %CE%94%CE%B7%CE%BC%CE%AE%CF%84%CF%81%CE%B7%CF%82 %CE%92%CE%B9%CE%BD%CF%84%CE%B6%CE%B7%CE%BB%CE%B1%CE%AF%CE%BF%CF%82":MAILTO:OpenSeminars@ppplearn.com
END:VEVENT
BEGIN:VEVENT
DTSTART;VALUE=DATE:20180309
DTEND;VALUE=DATE:20180310
DTSTAMP:20260423T205037
CREATED:20180328T172220Z
LAST-MODIFIED:20180330T135518Z
UID:4334-1520553600-1520639999@www.ppplearn.com
SUMMARY:Sun Tzu – Η Τέχνη του Πολέµου
DESCRIPTION:Sun Tzu – Η Τέχνη του Πολέµου\nΕργαστήρι επιχειρηματικής στρατηγικής σκέψης με τις αρχές της Τέχνης του Πολέμου του Sun Tzu. \nΗ “Τέχνη του Πολέμου” του Sun Tzu είναι το παλαιότερο και πιο γνωστό στρατιωτικό εγχειρίδιο του κόσμου. Αν και γράφτηκε σχεδόν πριν από 2.500 χρόνια\, εξακολουθεί\, ακόμα και σήμερα\, να είναι μακράν το πιο έγκυρο και σημαντικό βιβλίο στρατηγικής στον κόσμο. Περιέχει την ουσία\, τις αρχές και τη σοφία της στρατηγικής διοίκησης και των κρίσιμων παραγόντων επιτυχίας στον πόλεμο. \nΑν και είναι θαυμάσια ιδέα να διαβάσει κανείς το βιβλίο\, έχουμε επεξεργαστεί τις ιδέες του βιβλίου\, τις έχουμε προσαρμόσει στη σημερινή πραγματικότητα και τις έχουμε συνδέσει με πρακτικές ασκήσεις και παραδείγματα επιχειρηματικής στρατηγικής. Σε αυτό το εργαστήρι\, θα διερευνηθούν οι αρχές\, οι κανόνες\, και η σοφία του βιβλίου\, και θα εξαχθούν πολύτιμα συμπεράσματα και ιδέες για την εφαρμογή στην καθημερινή διοίκηση των επιχειρήσεων μας. \n\nΠερισσότερα στη μπροσούρα... \nΠερισσότερα στη Learning zone...
URL:https://www.ppplearn.com/event/emotional-eloquence-copy-copy/
LOCATION:Εγκαταστάσεις PPP Learn\, Χίου 63\, Κοντόπευκο - Αγ Παρασκευή\, Αττική\, GR 15343\, Ελλάδα
CATEGORIES:Team Lab
ATTACH;FMTTYPE=image/jpeg:https://www.ppplearn.com/wp-content/uploads/2016/12/sem_suntzu.jpg
ORGANIZER;CN="PPP - %CE%94%CE%B7%CE%BC%CE%AE%CF%84%CF%81%CE%B7%CF%82 %CE%92%CE%B9%CE%BD%CF%84%CE%B6%CE%B7%CE%BB%CE%B1%CE%AF%CE%BF%CF%82":MAILTO:OpenSeminars@ppplearn.com
END:VEVENT
END:VCALENDAR