BEGIN:VCALENDAR
VERSION:2.0
PRODID:-//PPPlearn - ECPv6.15.14//NONSGML v1.0//EN
CALSCALE:GREGORIAN
METHOD:PUBLISH
X-WR-CALNAME:PPPlearn
X-ORIGINAL-URL:https://www.ppplearn.com
X-WR-CALDESC:Events for PPPlearn
REFRESH-INTERVAL;VALUE=DURATION:PT1H
X-Robots-Tag:noindex
X-PUBLISHED-TTL:PT1H
BEGIN:VTIMEZONE
TZID:Europe/Athens
BEGIN:DAYLIGHT
TZOFFSETFROM:+0200
TZOFFSETTO:+0300
TZNAME:EEST
DTSTART:20180325T010000
END:DAYLIGHT
BEGIN:STANDARD
TZOFFSETFROM:+0300
TZOFFSETTO:+0200
TZNAME:EET
DTSTART:20181028T010000
END:STANDARD
BEGIN:DAYLIGHT
TZOFFSETFROM:+0200
TZOFFSETTO:+0300
TZNAME:EEST
DTSTART:20190331T010000
END:DAYLIGHT
BEGIN:STANDARD
TZOFFSETFROM:+0300
TZOFFSETTO:+0200
TZNAME:EET
DTSTART:20191027T010000
END:STANDARD
BEGIN:DAYLIGHT
TZOFFSETFROM:+0200
TZOFFSETTO:+0300
TZNAME:EEST
DTSTART:20200329T010000
END:DAYLIGHT
BEGIN:STANDARD
TZOFFSETFROM:+0300
TZOFFSETTO:+0200
TZNAME:EET
DTSTART:20201025T010000
END:STANDARD
END:VTIMEZONE
BEGIN:VEVENT
DTSTART;TZID=Europe/Athens:20190131T090000
DTEND;TZID=Europe/Athens:20190201T170000
DTSTAMP:20260425T154123
CREATED:20170303T140513Z
LAST-MODIFIED:20190107T162711Z
UID:3523-1548925200-1549040400@www.ppplearn.com
SUMMARY:Storytelling as a Selling Tool
DESCRIPTION:Storytelling as a selling tool\nΗ τέχνη να επινοείς και να αφηγείσαι ιστορίες αποτελεί ένα άριστο εργαλείο επικοινωνίας για το σύγχρονο πωλητή\, για να μπορέσει να δηµιουργήσει σχέση εµπιστοσύνης και να επικοινωνήσει τις αξίες του brand ή του προϊόντος του. \nΆσχετα από το µέγεθος\, την εξειδίκευση\, ή τον κλάδο του\, κάθε οργανισµός χρειάζεται και συνήθως έχει τους µοναδικούς του µύθους και την εσωτερική τεχνογνωσία που γίνεται µέρος του καµβά της ταυτότητάς του. \nΤέτοιες ιστορίες για προϊόντα και ανθρώπους\, πελάτες και πωλητές έχουν τροµακτική δύναµη να πείσουν και να αυξήσουν την παραγωγικότητα των πωλήσεων. Όταν ειπωθεί την κατάλληλη στιγµή και µε επιδέξιο τρόπο\, µία ιστορία µπορεί να πετύχει πολλά περισσότερα από χίλια επιχειρήµατα. \n\n\nΠερισσότερα στη μπροσούρα... \nΠερισσότερα στη Learning zone...
URL:https://www.ppplearn.com/event/storytelling-as-a-selling-tool/
LOCATION:Εγκαταστάσεις PPP Learn\, Χίου 63\, Κοντόπευκο - Αγ Παρασκευή\, Αττική\, GR 15343\, Ελλάδα
CATEGORIES:Coach Lab,Team Lab
ATTACH;FMTTYPE=image/jpeg:https://www.ppplearn.com/wp-content/uploads/2016/12/sem_storytelling_event-e1572866176908.jpg
ORGANIZER;CN="PPP - %CE%94%CE%B7%CE%BC%CE%AE%CF%84%CF%81%CE%B7%CF%82 %CE%92%CE%B9%CE%BD%CF%84%CE%B6%CE%B7%CE%BB%CE%B1%CE%AF%CE%BF%CF%82":MAILTO:OpenSeminars@ppplearn.com
END:VEVENT
END:VCALENDAR