BEGIN:VCALENDAR
VERSION:2.0
PRODID:-//PPPlearn - ECPv6.15.14//NONSGML v1.0//EN
CALSCALE:GREGORIAN
METHOD:PUBLISH
X-ORIGINAL-URL:https://www.ppplearn.com
X-WR-CALDESC:Events for PPPlearn
REFRESH-INTERVAL;VALUE=DURATION:PT1H
X-Robots-Tag:noindex
X-PUBLISHED-TTL:PT1H
BEGIN:VTIMEZONE
TZID:Europe/Athens
BEGIN:DAYLIGHT
TZOFFSETFROM:+0200
TZOFFSETTO:+0300
TZNAME:EEST
DTSTART:20170326T010000
END:DAYLIGHT
BEGIN:STANDARD
TZOFFSETFROM:+0300
TZOFFSETTO:+0200
TZNAME:EET
DTSTART:20171029T010000
END:STANDARD
BEGIN:DAYLIGHT
TZOFFSETFROM:+0200
TZOFFSETTO:+0300
TZNAME:EEST
DTSTART:20180325T010000
END:DAYLIGHT
BEGIN:STANDARD
TZOFFSETFROM:+0300
TZOFFSETTO:+0200
TZNAME:EET
DTSTART:20181028T010000
END:STANDARD
BEGIN:DAYLIGHT
TZOFFSETFROM:+0200
TZOFFSETTO:+0300
TZNAME:EEST
DTSTART:20190331T010000
END:DAYLIGHT
BEGIN:STANDARD
TZOFFSETFROM:+0300
TZOFFSETTO:+0200
TZNAME:EET
DTSTART:20191027T010000
END:STANDARD
BEGIN:DAYLIGHT
TZOFFSETFROM:+0200
TZOFFSETTO:+0300
TZNAME:EEST
DTSTART:20200329T010000
END:DAYLIGHT
BEGIN:STANDARD
TZOFFSETFROM:+0300
TZOFFSETTO:+0200
TZNAME:EET
DTSTART:20201025T010000
END:STANDARD
END:VTIMEZONE
BEGIN:VEVENT
DTSTART;TZID=Europe/Athens:20190131T090000
DTEND;TZID=Europe/Athens:20190201T170000
DTSTAMP:20260423T220307
CREATED:20170303T140513Z
LAST-MODIFIED:20190107T162711Z
UID:3523-1548925200-1549040400@www.ppplearn.com
SUMMARY:Storytelling as a Selling Tool
DESCRIPTION:Storytelling as a selling tool\nΗ τέχνη να επινοείς και να αφηγείσαι ιστορίες αποτελεί ένα άριστο εργαλείο επικοινωνίας για το σύγχρονο πωλητή\, για να μπορέσει να δηµιουργήσει σχέση εµπιστοσύνης και να επικοινωνήσει τις αξίες του brand ή του προϊόντος του. \nΆσχετα από το µέγεθος\, την εξειδίκευση\, ή τον κλάδο του\, κάθε οργανισµός χρειάζεται και συνήθως έχει τους µοναδικούς του µύθους και την εσωτερική τεχνογνωσία που γίνεται µέρος του καµβά της ταυτότητάς του. \nΤέτοιες ιστορίες για προϊόντα και ανθρώπους\, πελάτες και πωλητές έχουν τροµακτική δύναµη να πείσουν και να αυξήσουν την παραγωγικότητα των πωλήσεων. Όταν ειπωθεί την κατάλληλη στιγµή και µε επιδέξιο τρόπο\, µία ιστορία µπορεί να πετύχει πολλά περισσότερα από χίλια επιχειρήµατα. \n\n\nΠερισσότερα στη μπροσούρα... \nΠερισσότερα στη Learning zone...
URL:https://www.ppplearn.com/event/storytelling-as-a-selling-tool/
LOCATION:Εγκαταστάσεις PPP Learn\, Χίου 63\, Κοντόπευκο - Αγ Παρασκευή\, Αττική\, GR 15343\, Ελλάδα
CATEGORIES:Coach Lab,Team Lab
ATTACH;FMTTYPE=image/jpeg:https://www.ppplearn.com/wp-content/uploads/2016/12/sem_storytelling_event-e1572866176908.jpg
ORGANIZER;CN="PPP - %CE%94%CE%B7%CE%BC%CE%AE%CF%84%CF%81%CE%B7%CF%82 %CE%92%CE%B9%CE%BD%CF%84%CE%B6%CE%B7%CE%BB%CE%B1%CE%AF%CE%BF%CF%82":MAILTO:OpenSeminars@ppplearn.com
END:VEVENT
BEGIN:VEVENT
DTSTART;TZID=Europe/Athens:20180518T183000
DTEND;TZID=Europe/Athens:20180518T203000
DTSTAMP:20260423T220307
CREATED:20180504T144025Z
LAST-MODIFIED:20180515T130909Z
UID:4362-1526668200-1526675400@www.ppplearn.com
SUMMARY:Paizodrama
DESCRIPTION:Έκφραση & Ευεξία\nΜετά το τέλος της ημέρας τι μένει; ….\nΗ αίσθηση του «μια από τα ίδια»\, ένα έλλειμμα ικανοποίησης\, ένα κενό δημιουργικότητας\, ένα μέρος του εαυτού σας διαμαρτύρεται και ζητά να εκδηλωθεί;\nΑυτοσχεδιασμοί\, παιχνίδια και δημιουργική έκφραση αποφορτίζουν και απελευθερώνουν από τα βάρη της καθημερινότητας. \nΣτις συναντήσεις μας τα κορμιά ζωντανεύουν και κινούνται\, ενέργεια δημιουργείται και απελευθερώνεται\, οι μύες ασκούνται. \nΟι αυτοσχεδιασμοί και οι τεχνικές του δράματος παρέχουν πλούσιες εμπειρίες που εμπλέκουν το σώμα\, τα συναισθήματα και τις αισθήσεις\, σε νέες ή ξεχασμένες δυναμικές που βοηθούν να βρούμε την ισορροπία μας και να ανακαλύψουμε τι σημαίνει ευεξία. \n\nΟ αυτοσχεδιασμός είναι ζωή εδώ και τώρα – σκέψη και δημιουργία στην στιγμή\nΟ αυτοσχεδιασμός είναι μια μορφή τέχνης που απαιτεί συλλογική δουλειά\, συγκέντρωση προσοχής και σεβασμό ό ένας στον άλλον.\nΟ αυτοσχεδιασμός είναι ένας τρόπος για να εκφραστείτε δημιουργικά και πειραματιστείτε σε ένα ασφαλές περιβάλλον.\nΟ αυτοσχεδιασμός μπορεί να σας βοηθήσει να ακονίσετε τα εκφραστικά μέσα σας.\nΟι αυτοσχεδιασμοί είναι η πρόβα που κάνουμε για πραγματικά περιστατικά της ζωής στα οποία θα πρωταγωνιστήσουμε.Ελάτε\, να φανταστούμε\, να γελάσουμε\, να εξερευνήσουμε\, να δημιουργήσουμε και να εκφραστούμε.Τραβήξτε την πρίζα\, κλείστε τους διακόπτες του μυαλού\, ανοίξτε τις πόρτες τις καρδιάς και αιωρηθείτε  στο τώρα!Ελάτε κοντά μας για έκφραση και ευεξία! \nΚάθε Παρασκευή 6.30-8.30 αυτοσχεδιάζουμε και διασκεδάζουμε. \nΤις Παρασκευές 18 και 25 Μαΐου μπορείτε να συμμετέχετε δωρεάν. Απαραίτητη η δήλωση συμμετοχής.\nΤο κόστος συμμετοχής θα ανέρχεται σε 60 ευρώ / μήνα και 150 ευρώ /τρίμηνο.
URL:https://www.ppplearn.com/event/paizodrama/
LOCATION:Εγκαταστάσεις PPP Learn\, Χίου 63\, Κοντόπευκο - Αγ Παρασκευή\, Αττική\, GR 15343\, Ελλάδα
CATEGORIES:Team Lab
ORGANIZER;CN="PPP - %CE%94%CE%B7%CE%BC%CE%AE%CF%84%CF%81%CE%B7%CF%82 %CE%92%CE%B9%CE%BD%CF%84%CE%B6%CE%B7%CE%BB%CE%B1%CE%AF%CE%BF%CF%82":MAILTO:OpenSeminars@ppplearn.com
END:VEVENT
BEGIN:VEVENT
DTSTART;VALUE=DATE:20180420
DTEND;VALUE=DATE:20180421
DTSTAMP:20260423T220307
CREATED:20171215T071509Z
LAST-MODIFIED:20180329T124609Z
UID:3526-1524182400-1524268799@www.ppplearn.com
SUMMARY:Whiteboard Presenter
DESCRIPTION:Whiteboard Presenter\nΗ PΡΡ εξελίσσοντας συνεχώς τις μεθόδους της\, συλλαμβάνει και εφαρμόζει\, ιδέες και εργαλεία για το σχεδιασμό εκπαιδεύσεων\, συναντήσεων\, παρουσιάσεων και συνεδρίων  πιο διαδραστικών και συμμετοχικών\, που εμπλέκουν τους συμμετέχοντες. \nΤο πρόγραμμα αυτό παρέχει μια ποικιλία απλών οπτικών εργαλείων και τεχνικών που ο παρουσιαστής μπορεί  να χρησιμοποιήσει για να αναδείξει δημιουργικά το θέμα του. \nΟι ικανότητες σχεδίασης ή ζωγραφικής δεν είναι απαραίτητες! \nΙδέες\, σχέδια και διεργασίες μπορούν να χαρτογραφηθούν με τη χρήση τετραγώνων \, κύκλων\, βελών\, ανθρώπινων φιγούρων και ετικετών κειμένου.  Οι εκπαιδευτές αποκτούν τεχνογνωσία  στο σχεδιασμό και στη διεξαγωγή της διαδικασίας παρουσίασης και διευκόλυνσης (facilitation) με την χρήση whiteboard (οποιουδήποτε είδους πίνακα με ή χωρίς χαρτί)\, για να δημιουργήσουν ένα ισχυρό και αποτελεσματικό περιβάλλον διάχυσης της γνώσης. \n\n\nΠερισσότερα στη μπροσούρα... \nΠερισσότερα στη Learning zone... \n\n\n 
URL:https://www.ppplearn.com/event/whiteboard-presenter/
LOCATION:Εγκαταστάσεις PPP Learn\, Χίου 63\, Κοντόπευκο - Αγ Παρασκευή\, Αττική\, GR 15343\, Ελλάδα
CATEGORIES:Team Lab
ATTACH;FMTTYPE=image/jpeg:https://www.ppplearn.com/wp-content/uploads/2017/03/whiteboard_presenter.jpg
ORGANIZER;CN="PPP - %CE%94%CE%B7%CE%BC%CE%AE%CF%84%CF%81%CE%B7%CF%82 %CE%92%CE%B9%CE%BD%CF%84%CE%B6%CE%B7%CE%BB%CE%B1%CE%AF%CE%BF%CF%82":MAILTO:OpenSeminars@ppplearn.com
END:VEVENT
BEGIN:VEVENT
DTSTART;VALUE=DATE:20180309
DTEND;VALUE=DATE:20180310
DTSTAMP:20260423T220307
CREATED:20180328T172220Z
LAST-MODIFIED:20180330T135518Z
UID:4334-1520553600-1520639999@www.ppplearn.com
SUMMARY:Sun Tzu – Η Τέχνη του Πολέµου
DESCRIPTION:Sun Tzu – Η Τέχνη του Πολέµου\nΕργαστήρι επιχειρηματικής στρατηγικής σκέψης με τις αρχές της Τέχνης του Πολέμου του Sun Tzu. \nΗ “Τέχνη του Πολέμου” του Sun Tzu είναι το παλαιότερο και πιο γνωστό στρατιωτικό εγχειρίδιο του κόσμου. Αν και γράφτηκε σχεδόν πριν από 2.500 χρόνια\, εξακολουθεί\, ακόμα και σήμερα\, να είναι μακράν το πιο έγκυρο και σημαντικό βιβλίο στρατηγικής στον κόσμο. Περιέχει την ουσία\, τις αρχές και τη σοφία της στρατηγικής διοίκησης και των κρίσιμων παραγόντων επιτυχίας στον πόλεμο. \nΑν και είναι θαυμάσια ιδέα να διαβάσει κανείς το βιβλίο\, έχουμε επεξεργαστεί τις ιδέες του βιβλίου\, τις έχουμε προσαρμόσει στη σημερινή πραγματικότητα και τις έχουμε συνδέσει με πρακτικές ασκήσεις και παραδείγματα επιχειρηματικής στρατηγικής. Σε αυτό το εργαστήρι\, θα διερευνηθούν οι αρχές\, οι κανόνες\, και η σοφία του βιβλίου\, και θα εξαχθούν πολύτιμα συμπεράσματα και ιδέες για την εφαρμογή στην καθημερινή διοίκηση των επιχειρήσεων μας. \n\nΠερισσότερα στη μπροσούρα... \nΠερισσότερα στη Learning zone...
URL:https://www.ppplearn.com/event/emotional-eloquence-copy-copy/
LOCATION:Εγκαταστάσεις PPP Learn\, Χίου 63\, Κοντόπευκο - Αγ Παρασκευή\, Αττική\, GR 15343\, Ελλάδα
CATEGORIES:Team Lab
ATTACH;FMTTYPE=image/jpeg:https://www.ppplearn.com/wp-content/uploads/2016/12/sem_suntzu.jpg
ORGANIZER;CN="PPP - %CE%94%CE%B7%CE%BC%CE%AE%CF%84%CF%81%CE%B7%CF%82 %CE%92%CE%B9%CE%BD%CF%84%CE%B6%CE%B7%CE%BB%CE%B1%CE%AF%CE%BF%CF%82":MAILTO:OpenSeminars@ppplearn.com
END:VEVENT
BEGIN:VEVENT
DTSTART;VALUE=DATE:20180214
DTEND;VALUE=DATE:20180216
DTSTAMP:20260423T220307
CREATED:20170405T100429Z
LAST-MODIFIED:20180117T103515Z
UID:4087-1518566400-1518739199@www.ppplearn.com
SUMMARY:Digital Storytelling\, Beyond Presentation Skills
DESCRIPTION:Digital Storytelling\, Beyond Presentation Skills\nΟι εξαιρετικές παρουσιάσεις μοιάζουν με μαγεία. \nΚαταπλήσσουν και γοητεύουν τους ακροατές τους. Και οι εξαιρετικοί παρουσιαστές μοιάζουν με μάγους\, που εκτός από το να δίνουν συχνές παραστάσεις\, είναι απρόθυμοι να αποκαλύψουν τις μεθόδους που κρύβονται πίσω από τη μαγεία τους. Μεταξύ των μάγων είναι αποδεκτό να αποκαλύπτει κανείς τα μυστικά\, μόνο σε αυτούς που είναι αφοσιωμένοι σοβαρά στο να μάθουν την τέχνη και να γίνουν επαγγελματίες μάγοι. \nΣε αυτό το πλαίσιο ο Δημήτρης Βιντζηλαίος απευθύνεται σε αυτούς που παίρνουν σοβαρά τις παρουσιάσεις τους και τους προσφέρει μια μοναδική ευκαιρία μάθησης. \nΕδώ και δύο χρόνια\, οι έρευνες του Δημήτρη Βιντζηλαίου για την εφαρμογή θεατρικών τεχνικών στην επιχειρηματική επικοινωνία\, τον οδήγησαν να ανακαλύψει πως οι ιστορίες όχι μόνο μπορούν να χρησιμοποιηθούν μέσα σε μια παρουσίαση\, αλλά και πώς ολόκληρη η παρουσίαση μπορεί να διαμορφωθεί στη φόρμα μίας ιστορίας \n\nΠερισσότερα στη μπροσούρα... \nΠερισσότερα στη Learning zone...
URL:https://www.ppplearn.com/event/digital-storytelling/
LOCATION:Εγκαταστάσεις PPP Learn\, Χίου 63\, Κοντόπευκο - Αγ Παρασκευή\, Αττική\, GR 15343\, Ελλάδα
CATEGORIES:Team Lab
ATTACH;FMTTYPE=image/jpeg:https://www.ppplearn.com/wp-content/uploads/2016/03/20160305.jpg
ORGANIZER;CN="PPP - %CE%94%CE%B7%CE%BC%CE%AE%CF%84%CF%81%CE%B7%CF%82 %CE%92%CE%B9%CE%BD%CF%84%CE%B6%CE%B7%CE%BB%CE%B1%CE%AF%CE%BF%CF%82":MAILTO:OpenSeminars@ppplearn.com
END:VEVENT
END:VCALENDAR